BEGIN:VCALENDAR
VERSION:2.0
PRODID:-//ChamberMaster//Event Calendar 2.0//EN
METHOD:PUBLISH
X-PUBLISHED-TTL:P3D
REFRESH-INTERVAL:P3D
CALSCALE:GREGORIAN
BEGIN:VEVENT
DTSTART;VALUE=DATE:20090121
DTEND;VALUE=DATE:20090122
TRANSP:TRANSPARENT
X-MICROSOFT-CDO-ALLDAYEVENT:TRUE
SUMMARY:Tracks Sportsbar & Grill Presents Comedy with Marcus
DESCRIPTION:JAN 21ST - 8 pmMARCUS FROM LAST COMIC STANDING LIVE \nCOME SEE ONE OF THE BEST COMIDIANS IN THE NATION MARCUS FROM LAST COMIC STANDING TICKETS ON SALE AT THE CLUB OR AT SMITHTIX.COM
X-ALT-DESC;FMTTYPE=text/html:<p align="center"><font size="4">JAN 21ST - 8 pm</font></p><p align="center"><font size="4">MARCUS FROM LAST COMIC STANDING LIVE <br /><span class="textMain">COME SEE ONE OF THE BEST COMIDIANS IN THE NATION MARCUS FROM LAST COMIC STANDING TICKETS ON SALE AT THE CLUB OR AT SMITHTIX.COM</span></font></p>
LOCATION:Tracks Sportsbar & Grill1641 North Main StreetTooele\, Utah435-882-4040
UID:e.125.524
SEQUENCE:3
DTSTAMP:20260424T055158Z
URL:https://members.tooelechamber.com/events/details/tracks-sportsbar-grill-presents-comedy-with-marcus-01-21-2009-524
END:VEVENT

END:VCALENDAR
