BEGIN:VCALENDAR
VERSION:2.0
PRODID:-//ChamberMaster//Event Calendar 2.0//EN
METHOD:PUBLISH
X-PUBLISHED-TTL:P3D
REFRESH-INTERVAL:P3D
CALSCALE:GREGORIAN
BEGIN:VEVENT
DTSTART:20131031T220000Z
DTEND:20131101T010000Z
X-MICROSOFT-CDO-ALLDAYEVENT:FALSE
SUMMARY:Trick or Treat on Main Street
DESCRIPTION:Bring your kids to trick or treat on Main street from utah avenue to  1st south and the north side of vine!
X-ALT-DESC;FMTTYPE=text/html:Bring your kids to trick or treat on Main street from&nbsp\;utah avenue to &nbsp\;1st south and the north side of vine!
LOCATION:
UID:e.125.5058
SEQUENCE:3
DTSTAMP:20260420T080131Z
URL:https://members.tooelechamber.com/events/details/trick-or-treat-on-main-street-10-31-2013-5058
END:VEVENT

END:VCALENDAR
