BEGIN:VCALENDAR
VERSION:2.0
PRODID:-//ChamberMaster//Event Calendar 2.0//EN
METHOD:PUBLISH
X-PUBLISHED-TTL:P3D
REFRESH-INTERVAL:P3D
CALSCALE:GREGORIAN
BEGIN:VEVENT
DTSTART;VALUE=DATE:20080412
DTEND;VALUE=DATE:20080414
TRANSP:TRANSPARENT
X-MICROSOFT-CDO-ALLDAYEVENT:TRUE
SUMMARY:Triple Valley Stage Race (Bicycle Race)
DESCRIPTION:Ski Utah Cycling and University of Utah Cycling present the Triple Valley Stage Race$4000 cash purse A Utah Cycling Association Points Series Event For complete details and instructions\, please visit:www.triplevalley.com
X-ALT-DESC;FMTTYPE=text/html:<div align="center"><font size="5">Ski Utah Cycling and University of Utah Cycling present the </font></div><div align="center"><font size="5">Triple Valley Stage Race</font></div><div align="center"><font size="5">$4000 cash purse</font></div><div align="center">&nbsp\;</div><div align="center"><font size="5">A Utah Cycling Association Points Series Event</font></div><div align="center">&nbsp\;</div><div align="center"><font size="5">For complete details and instructions\, please visit:</font></div><div align="center"><a href="http://www.triplevalley.com"><font size="5">www.triplevalley.com</font></a></div>
LOCATION:Stage 1: Skull Valley Road Race Saturday 9amStage 2: Salt Lake Valley TT- Saturday 4 pmStage 3: Tooele Valley Circuit Race- Sunday 9am
UID:e.125.252
SEQUENCE:3
DTSTAMP:20260424T215649Z
URL:https://members.tooelechamber.com/events/details/triple-valley-stage-race-bicycle-race-04-12-2008-252
END:VEVENT

END:VCALENDAR
