BEGIN:VCALENDAR
VERSION:2.0
PRODID:-//ChamberMaster//Event Calendar 2.0//EN
METHOD:PUBLISH
X-PUBLISHED-TTL:P3D
REFRESH-INTERVAL:P3D
CALSCALE:GREGORIAN
BEGIN:VEVENT
DTSTART:20070602T150000Z
DTEND:20070602T190000Z
X-MICROSOFT-CDO-ALLDAYEVENT:FALSE
SUMMARY:U of U Health Fair
DESCRIPTION:Come join the U of U Stansbury Clinic for a Health Fair on Saturday June 2nd from 9am-1pm.   Many local businesses will be participating along with the Health Dept\, Sherriff's office and Fire Departments!
X-ALT-DESC;FMTTYPE=text/html:<p align="center"><font color="#ff0000" size="5"><strong>Come join the U of U Stansbury Clinic for a Health Fair on Saturday June 2nd from 9am-1pm.&nbsp\;&nbsp\; Many local businesses will be participating along with the Health Dept\, Sherriff&rsquo\;s office and Fire Departments!</strong></font></p>
LOCATION:University of Utah Stansbury Clinic 220 Millpond\, #100\, Stansbury Park
UID:e.125.109
SEQUENCE:3
DTSTAMP:20260425T115627Z
URL:https://members.tooelechamber.com/events/details/u-of-u-health-fair-06-02-2007-109
END:VEVENT

END:VCALENDAR
