BEGIN:VCALENDAR
VERSION:2.0
PRODID:-//ChamberMaster//Event Calendar 2.0//EN
METHOD:PUBLISH
X-PUBLISHED-TTL:P3D
REFRESH-INTERVAL:P3D
CALSCALE:GREGORIAN
BEGIN:VEVENT
DTSTART:20100918T133000Z
DTEND:20100918T180000Z
X-MICROSOFT-CDO-ALLDAYEVENT:FALSE
SUMMARY:Usana 5K Fun Run
DESCRIPTION:Usana 5K Fun RunSeptember 18\, 2010Miller Raceway Time: 7:30 amFundraiser for Childrens Justice CenterFree T-Shirt with RegistrationPre- Register - $15.00Applications can be picked up at Albertson's Day of - $20.00Kids under 10 - $10.004 and under- FREESleep in for the Cause - $15.00
X-ALT-DESC;FMTTYPE=text/html:<div style="text-align: center"><u><strong><span style="font-size: large">Usana 5K Fun Run</span></strong></u></div><div style="text-align: center"><span style="font-size: large">September 18\, 2010</span></div><div style="text-align: center"><span style="font-size: large">Miller Raceway </span></div><div style="text-align: center"><span style="font-size: large">Time: 7:30 am</span></div><div style="text-align: center"><span style="font-size: large">Fundraiser for Childrens Justice Center</span></div><div style="text-align: center"><span style="font-size: large">Free T-Shirt with Registration</span></div><div style="text-align: center"><span style="font-size: large">Pre- Register - $15.00</span></div><div style="text-align: center"><span style="font-size: large">Applications can be picked up at Albertson's </span></div><div style="text-align: center"><span style="font-size: large">Day of - $20.00</span></div><div style="text-align: center"><span style="font-size: large">Kids under 10 - $10.00</span></div><div style="text-align: center"><span style="font-size: large">4 and under- FREE</span></div><div style="text-align: center"><span style="font-size: large">Sleep in for the Cause - $15.00</span></div><div>&nbsp\;</div>
LOCATION:
UID:e.125.2594
SEQUENCE:3
DTSTAMP:20260422T215910Z
URL:https://members.tooelechamber.com/events/details/usana-5k-fun-run-09-18-2010-2594
END:VEVENT

END:VCALENDAR
