BEGIN:VCALENDAR
VERSION:2.0
PRODID:-//ChamberMaster//Event Calendar 2.0//EN
METHOD:PUBLISH
X-PUBLISHED-TTL:P3D
REFRESH-INTERVAL:P3D
CALSCALE:GREGORIAN
BEGIN:VEVENT
DTSTART:20110910T123000Z
DTEND:20110910T153000Z
X-MICROSOFT-CDO-ALLDAYEVENT:FALSE
SUMMARY:USANA 5k Run
DESCRIPTION:USANA 5K Run \n\n	Saturday\, September 10\, 2011\n\n	Registration starts @ 6:30am\n\n	Race starts @ 7:30am\n\n	Location: Miller Motorsports Park\n\n	2901 Sheep Lane\, Tooele\n\n	For more information contact:\n\n	Gail (801)228-8858 or Christine (435)224-4690
X-ALT-DESC;FMTTYPE=text/html:<p style="text-align: center">\n	<span style="font-size: 20px"><strong><u>USANA 5K Run </u></strong><br />\n	Saturday\, September 10\, 2011<br />\n	Registration starts @ 6:30am<br />\n	Race starts @ 7:30am<br />\n	Location: Miller Motorsports Park<br />\n	2901 Sheep Lane\, Tooele<br />\n	For more information contact:<br />\n	Gail (801)228-8858 or Christine (435)224-4690</span></p>\n
LOCATION:
UID:e.125.3606
SEQUENCE:3
DTSTAMP:20260422T030127Z
URL:https://members.tooelechamber.com/events/details/usana-5k-run-09-10-2011-3606
END:VEVENT

END:VCALENDAR
