BEGIN:VCALENDAR
VERSION:2.0
PRODID:-//ChamberMaster//Event Calendar 2.0//EN
METHOD:PUBLISH
X-PUBLISHED-TTL:P3D
REFRESH-INTERVAL:P3D
CALSCALE:GREGORIAN
BEGIN:VEVENT
DTSTART:20080414T170000Z
DTEND:20080414T170000Z
X-MICROSOFT-CDO-ALLDAYEVENT:FALSE
SUMMARY:USU Expansion Groundbreaking
DESCRIPTION:USU groundbreaking for the expansion of their existing building.
X-ALT-DESC;FMTTYPE=text/html:<div>USU groundbreaking for the expansion of their existing building.</div>
LOCATION:1021 West Vine StreetTooele
UID:e.125.243
SEQUENCE:3
DTSTAMP:20260424T203342Z
URL:https://members.tooelechamber.com/events/details/usu-expansion-groundbreaking-04-14-2008-243
END:VEVENT

END:VCALENDAR
