BEGIN:VCALENDAR
VERSION:2.0
PRODID:-//ChamberMaster//Event Calendar 2.0//EN
METHOD:PUBLISH
X-PUBLISHED-TTL:P3D
REFRESH-INTERVAL:P3D
CALSCALE:GREGORIAN
BEGIN:VEVENT
DTSTART:20120421T173000Z
DTEND:20120421T210000Z
X-MICROSOFT-CDO-ALLDAYEVENT:FALSE
SUMMARY:USU Tooele Campus
DESCRIPTION:USU Tooele Campus 2012 Graduation\n\nSaturday\, April 21\, 2012\n\n11:30am\n\nTooele High School
X-ALT-DESC;FMTTYPE=text/html:<span style="font-size: 24px">USU Tooele Campus 2012 Graduation<br />\nSaturday\, April 21\, 2012<br />\n11:30am<br />\nTooele High School</span>
LOCATION:
UID:e.125.4839
SEQUENCE:3
DTSTAMP:20260421T154621Z
URL:https://members.tooelechamber.com/events/details/usu-tooele-campus-04-21-2012-4839
END:VEVENT

END:VCALENDAR
