BEGIN:VCALENDAR
VERSION:2.0
PRODID:-//ChamberMaster//Event Calendar 2.0//EN
METHOD:PUBLISH
X-PUBLISHED-TTL:P3D
REFRESH-INTERVAL:P3D
CALSCALE:GREGORIAN
BEGIN:VEVENT
DTSTART:20120626T030000Z
DTEND:20120628T180000Z
X-MICROSOFT-CDO-ALLDAYEVENT:FALSE
SUMMARY:USU Tooele Summer Camps
DESCRIPTION:USU-Tooele Summer Camps\n\nJune 25th-June 28th\n\nMonday-Thursday 9:00 am-12:00 pm\n\nat The USU Tooele Campus\n\n1021 West Vine Street\, Tooele\n\n\n\nOnly $30 for the week\n\nHands-on science & learning activities every day!\n\nlight snack & T-shirt provided\n\n\n\nRegistration is now open!\n\nRegister at front office in the USU Tooele campus\,\n\n(Registration is limited to 40 students)
X-ALT-DESC;FMTTYPE=text/html:USU-Tooele Summer Camps<br />\nJune 25th-June 28th<br />\nMonday-Thursday 9:00 am-12:00 pm<br />\nat The USU Tooele Campus<br />\n1021 West Vine Street\, Tooele<br />\n<br />\nOnly $30 for the week<br />\nHands-on science &amp\; learning activities every day!<br />\nlight snack &amp\; T-shirt provided<br />\n<br />\nRegistration is now open!<br />\nRegister at front office in the USU Tooele campus\,<br />\n(Registration is limited to 40 students)<br />\n
LOCATION:
UID:e.125.4849
SEQUENCE:3
DTSTAMP:20260421T122327Z
URL:https://members.tooelechamber.com/events/details/usu-tooele-summer-camps-06-25-2012-4849
END:VEVENT

END:VCALENDAR
