BEGIN:VCALENDAR
VERSION:2.0
PRODID:-//ChamberMaster//Event Calendar 2.0//EN
METHOD:PUBLISH
X-PUBLISHED-TTL:P3D
REFRESH-INTERVAL:P3D
CALSCALE:GREGORIAN
BEGIN:VEVENT
DTSTART:20140813T180000Z
DTEND:20140813T190000Z
X-MICROSOFT-CDO-ALLDAYEVENT:FALSE
SUMMARY:UTA Luncheon
DESCRIPTION:UTA Luncheon
X-ALT-DESC;FMTTYPE=text/html:UTA Luncheon
LOCATION:Tooele Chamber of Commerce 154 South Main Street Tooele\, UT 84074
UID:e.125.5381
SEQUENCE:3
DTSTAMP:20260419T142327Z
URL:https://members.tooelechamber.com/events/details/uta-luncheon-08-13-2014-5381
END:VEVENT

END:VCALENDAR
