BEGIN:VCALENDAR
VERSION:2.0
PRODID:-//ChamberMaster//Event Calendar 2.0//EN
METHOD:PUBLISH
X-PUBLISHED-TTL:P3D
REFRESH-INTERVAL:P3D
CALSCALE:GREGORIAN
BEGIN:VEVENT
DTSTART:20121105T173000Z
DTEND:20121105T193000Z
X-MICROSOFT-CDO-ALLDAYEVENT:FALSE
SUMMARY:Utah State University
DESCRIPTION:Utah State University\n\n	USET (Utah Supported Education Training)\n\n	Ensuring access to college for people with psychiatric disabilities.\n\n	FREE two-hour training about supported education.\n\n	Monday\, November 5th 2012\n\n	10:30am   12:30pm\n\n	1021 West Vine Street\n\n	Room 123\n\n	RSVP to Scott Kupferman\, (435) 797-8411\, scott.kupferman@usu.edu\n\n	Click here to edit...
X-ALT-DESC;FMTTYPE=text/html:<div style="color: gray">\n	<u>&nbsp\;<strong><span style="font-size: 20pt"><span style="font-family: calibri\,sans-serif">Utah State University</span></span></strong><br />\n	<strong><span style="font-size: 20pt"><span style="font-family: calibri\,sans-serif">USET (Utah Supported Education Training)</span></span></strong></u><br />\n	<strong><span style="font-size: 16pt"><span style="font-family: calibri\,sans-serif">Ensuring access to college for people with psychiatric disabilities.</span></span></strong><br />\n	<strong><span style="font-size: 16pt"><span style="color: #c00000"><span style="font-family: calibri\,sans-serif">FREE </span></span></span><span style="font-size: 16pt"><span style="color: black"><span style="font-family: arial\,sans-serif">two-hour</span></span></span><span style="font-size: 16pt"><span style="color: black"><span style="font-family: arial\,sans-serif"> training about supported education.</span></span></span></strong><br />\n	<strong><span style="font-size: 16pt"><span style="color: black"><span style="font-family: calibri\,sans-serif">Monday\, November 5<sup>th</sup> 2012</span></span></span></strong><br />\n	<strong><span style="font-size: 16pt"><span style="color: black"><span style="font-family: calibri\,sans-serif">10:30am &ndash\; 12:30pm</span></span></span></strong><br />\n	<strong><span style="font-size: 16pt"><span style="color: black"><span style="font-family: calibri\,sans-serif">1021 West Vine Street</span></span></span></strong><br />\n	<strong><span style="font-size: 16pt"><span style="color: black"><span style="font-family: calibri\,sans-serif">Room 123</span></span></span></strong><br />\n	<strong><span style="font-size: 16pt"><span style="color: black"><span style="font-family: calibri\,sans-serif">RSVP to Scott Kupferman\, (435) 797-8411\, </span></span></span></strong><span style="font-size: 10pt"><span style="font-family: arial\,sans-serif"><span style="font-size: 10pt"><span style="font-family: arial\,sans-serif"><a href="mailto:scott.kupferman@usu.edu"><strong><span style="font-size: 16pt"><span style="color: blue"><span style="font-family: calibri\,sans-serif">scott.kupferman@usu.edu</span></span></span></strong></a></span></span></span></span><br />\n	Click here to edit...</div>\n
LOCATION:
UID:e.125.4944
SEQUENCE:3
DTSTAMP:20260421T051529Z
URL:https://members.tooelechamber.com/events/details/utah-state-university-11-05-2012-4944
END:VEVENT

END:VCALENDAR
