BEGIN:VCALENDAR
VERSION:2.0
PRODID:-//ChamberMaster//Event Calendar 2.0//EN
METHOD:PUBLISH
X-PUBLISHED-TTL:P3D
REFRESH-INTERVAL:P3D
CALSCALE:GREGORIAN
BEGIN:VEVENT
DTSTART:20140515T200000Z
DTEND:20140515T210000Z
X-MICROSOFT-CDO-ALLDAYEVENT:FALSE
SUMMARY:Utah State University Ground Breaking for New Science and Technology building
DESCRIPTION:Ground Breaking for new USU Science and Technology Building
X-ALT-DESC;FMTTYPE=text/html:Ground Breaking for new USU Science and Technology Building
LOCATION:1021 West Vine Street\, Tooele
UID:e.125.5086
SEQUENCE:3
DTSTAMP:20260419T201016Z
URL:https://members.tooelechamber.com/events/details/utah-state-university-ground-breaking-for-new-science-and-technology-building-05-15-2014-5086
END:VEVENT

END:VCALENDAR
