BEGIN:VCALENDAR
VERSION:2.0
PRODID:-//ChamberMaster//Event Calendar 2.0//EN
METHOD:PUBLISH
X-PUBLISHED-TTL:P3D
REFRESH-INTERVAL:P3D
CALSCALE:GREGORIAN
BEGIN:VEVENT
DTSTART;VALUE=DATE:20131128
DTEND;VALUE=DATE:20131130
TRANSP:TRANSPARENT
X-MICROSOFT-CDO-ALLDAYEVENT:TRUE
SUMMARY:Utilty payments due
DESCRIPTION:Utility payments are due in the office before closing.  Online payment due by midnight.  \nIf the due date is a holiday or weekend:  Online payments still due by MN.  All other payments by cc\, ck\, cash must be made IN the office by 10:00a.m. of the next working day.
X-ALT-DESC;FMTTYPE=text/html:Utility payments are due in the office before closing.  Online payment due by midnight.  \nIf the due date is a holiday or weekend:  Online payments still due by MN.  All other payments by cc\, ck\, cash must be made IN the office by 10:00a.m. of the next working day.
LOCATION:
UID:e.125.6074
SEQUENCE:3
DTSTAMP:20260420T055346Z
URL:https://members.tooelechamber.com/events/details/utilty-payments-due-11-28-2013-6074
END:VEVENT

END:VCALENDAR
