BEGIN:VCALENDAR
VERSION:2.0
PRODID:-//ChamberMaster//Event Calendar 2.0//EN
METHOD:PUBLISH
X-PUBLISHED-TTL:P3D
REFRESH-INTERVAL:P3D
CALSCALE:GREGORIAN
BEGIN:VEVENT
DTSTART:20110518T000000Z
DTEND:20110518T013000Z
X-MICROSOFT-CDO-ALLDAYEVENT:FALSE
SUMMARY:Valley Mental Health Parenting Classes
DESCRIPTION:Valley Mental Health of Tooele is committed to improving\, enhancing and strengthening individuals\, families\, and community lives.  One way we do this is by providing a parenting class where fathers and mothers can come together and improve their parenting skills.\n\n	 \n\n	The parenting class is an eight-week course that helps parents better understand child development\, strengthen the parent-child relationship\, positive communication\, and refine non-abusive discipline methods.  \n \n\n	Date: May 3-June 21\, 2011 on Tuesday evenings\n\n	Time: 6:00pm-7:30pm\n\n	Location: 100 S 1000 W\, Tooele\, \n\n	Cost: $80\, or Medicaid is accepted for full coverage of cost (for open clients).  PCN insurance is not accepted.  \n\n	 \n\n	For more information call\n\n	Valley Mental Health of Tooele.\n\n	843-3520
X-ALT-DESC;FMTTYPE=text/html:<p class="MsoBodyText" style="margin: 0in 0in 0pt">\n	<span style="font-size: 14px"><font color="#000000"><font face="Times New Roman">Valley Mental Health of Tooele is committed to improving\, enhancing and strengthening individuals\, families\, and community lives.<span style="mso-spacerun: yes">&nbsp\; </span>One way we do this is by providing a parenting class where fathers and mothers can come together and improve their parenting skills.</font></font></span><span style="font-size: 10pt"><font color="#000000"><font face="Times New Roman"><o:p></o:p></font></font></span></p>\n<p align="center" class="MsoNormal" style="text-align: center\; margin: 0in 0in 0pt">\n	<span style="font-size: 14px"><o:p><font color="#000000" face="Times New Roman">&nbsp\;</font></o:p></span><span style="font-size: 18pt"><o:p></o:p></span></p>\n<p class="MsoBodyText" style="margin: 0in 0in 0pt">\n	<span style="font-size: 14px"><font color="#000000"><font face="Times New Roman">The parenting class is an eight-week course that helps parents better understand child development\, strengthen the parent-child relationship\, positive communication\, and refine non-abusive discipline methods.<span style="mso-spacerun: yes">&nbsp\; </span></font></font></span><span style="font-size: 18pt"><font color="#000000"><font face="Times New Roman"><o:p></o:p></font></font></span></p>\n<span style="font-size: 14px"><o:p><font color="#000000" face="Times New Roman"> </font>\n<p align="center" class="MsoNormal" style="text-align: center\; margin: 0in 0in 0pt">\n	<font color="#000000" face="Times New Roman"><font color="#000000"><font face="Times New Roman"><b style="mso-bidi-font-weight: normal"><u><span style="font-size: 20pt">Date:</span></u></b><span style="font-size: 20pt"> May 3-June 21\,</span><span style="font-size: 18pt"> 2011 on Tuesday evenings<o:p></o:p></span></font></font></font></p>\n<p align="center" class="MsoNormal" style="text-align: center\; margin: 0in 0in 0pt">\n	<font color="#000000" face="Times New Roman"><font color="#000000"><font face="Times New Roman"><b style="mso-bidi-font-weight: normal"><u><span style="font-size: 20pt">Time:</span></u></b><span style="font-size: 18pt"> 6:00pm-7:30pm<o:p></o:p></span></font></font></font></p>\n<p align="center" class="MsoNormal" style="text-align: center\; margin: 0in 0in 0pt">\n	<font color="#000000" face="Times New Roman"><font color="#000000"><font face="Times New Roman"><b style="mso-bidi-font-weight: normal"><u><span style="font-size: 20pt">Location:</span></u></b><span style="font-size: 18pt"> 100 S 1000 W\, Tooele\, <o:p></o:p></span></font></font></font></p>\n<p align="center" class="MsoNormal" style="text-align: center\; margin: 0in 0in 0pt">\n	<font color="#000000" face="Times New Roman"><font color="#000000"><font face="Times New Roman"><b style="mso-bidi-font-weight: normal"><u><span style="font-size: 20pt">Cost:</span></u></b><span style="font-size: 18pt"> $80\, or Medicaid is accepted for full coverage of cost (for open clients).<span style="mso-spacerun: yes">&nbsp\; </span>PCN insurance is not accepted.<span style="mso-spacerun: yes">&nbsp\; </span><o:p></o:p></span></font></font></font></p>\n<p align="center" class="MsoNormal" style="text-align: center\; margin: 0in 0in 0pt">\n	<font color="#000000" face="Times New Roman"><span style="font-family: 'cooper lt bt'\, 'serif'\; font-size: 18pt"><o:p><font color="#000000" face="Times New Roman">&nbsp\;</font></o:p></span></font></p>\n<h2 style="margin: 0in 0in 0pt">\n	<font color="#000000" face="Times New Roman"><span style="font-family: 'cooper lt bt'\, 'serif'\; font-size: 18pt\; mso-bidi-font-size: 12.0pt"><font color="#000000"><font face="Times New Roman">For more information call<o:p></o:p></font></font></span></font></h2>\n<h2 style="margin: 0in 0in 0pt">\n	<font color="#000000" face="Times New Roman"><span style="font-family: 'cooper lt bt'\, 'serif'\; font-size: 18pt\; mso-bidi-font-size: 12.0pt"><font color="#000000"><font face="Times New Roman">Valley Mental Health of Tooele.<o:p></o:p></font></font></span></font></h2>\n<h2 style="margin: 0in 0in 0pt">\n	<font color="#000000" face="Times New Roman"><span style="font-family: 'cooper lt bt'\, 'serif'\; font-size: 18pt\; mso-bidi-font-size: 12.0pt"><font color="#000000"><font face="Times New Roman">843-3520<span _fck_bookmark="1" style="display: none">&nbsp\;</span><o:p></o:p></font></font></span></font></h2>\n<p align="center" class="MsoNormal" style="text-align: center\; margin: 0in 0in 0pt">\n	<font color="#000000" face="Times New Roman">&nbsp\;</font></p>\n</o:p></span><span style="font-size: 18pt"><o:p><font color="#000000" face="Times New Roman"><span _fck_bookmark="1" style="display: none">&nbsp\;</span></font></o:p></span>
LOCATION:
UID:e.125.3682
SEQUENCE:3
DTSTAMP:20260422T104525Z
URL:https://members.tooelechamber.com/events/details/valley-mental-health-parenting-classes-05-17-2011-3682
END:VEVENT

END:VCALENDAR
