BEGIN:VCALENDAR
VERSION:2.0
PRODID:-//ChamberMaster//Event Calendar 2.0//EN
METHOD:PUBLISH
X-PUBLISHED-TTL:P3D
REFRESH-INTERVAL:P3D
CALSCALE:GREGORIAN
BEGIN:VEVENT
DTSTART;VALUE=DATE:20090613
DTEND;VALUE=DATE:20090614
TRANSP:TRANSPARENT
X-MICROSOFT-CDO-ALLDAYEVENT:TRUE
SUMMARY:Veterans Appreciation Day
DESCRIPTION:Veterans Appreciation Day\nVeterans Appreciation Day will be held on Saturday\, June 13 at Veteran's Memorial Park with a Flag Day ceremony at 10 a.m. and flag retiring ceremony at 11 a.m. Hot dogs\, hamburgers provided for all veterans starting after the flag retirement ceremony at 12:30 p.m. All veterans are invited to come.
X-ALT-DESC;FMTTYPE=text/html:<div style="text-align: center"><span style="font-size: x-large"><span style="color: #ff0000"><span><span style="font-family: Tahoma"><strong><font face="Times New Roman">Veterans Appreciation Day</font></strong></span></span></span></span><span style="color: #ff0000"><span style="font-size: large"><span style="font-family: Tahoma"><font face="Times New Roman" size="3"><br /><font color="#000000">Veterans Appreciation Day will be held on Saturday\, June 13 at Veteran&rsquo\;s Memorial Park with a Flag Day ceremony at 10 a.m. and flag retiring ceremony at 11 a.m. Hot dogs\, hamburgers provided for all veterans starting after the flag retirement ceremony at 12:30 p.m. All veterans are invited to come.</font></font></span></span></span></div>
LOCATION:
UID:e.125.2536
SEQUENCE:3
DTSTAMP:20260423T230145Z
URL:https://members.tooelechamber.com/events/details/veterans-appreciation-day-06-13-2009-2536
END:VEVENT

END:VCALENDAR
