BEGIN:VCALENDAR
VERSION:2.0
PRODID:-//ChamberMaster//Event Calendar 2.0//EN
METHOD:PUBLISH
X-PUBLISHED-TTL:P3D
REFRESH-INTERVAL:P3D
CALSCALE:GREGORIAN
BEGIN:VEVENT
DTSTART:20130727T160000Z
DTEND:20130727T220000Z
X-MICROSOFT-CDO-ALLDAYEVENT:FALSE
SUMMARY:Veterans Appreciations Day
DESCRIPTION:Veterans Appreciation Day\, Car Show and Blood Drive\n\n\n\n10:00a.m-4:00pm\n\nat Veterans Memorial Park.\n\n\n\nSponsored by Tooele Elks Lodge.
X-ALT-DESC;FMTTYPE=text/html:<span style="font-size: 22px">Veterans Appreciation Day\, Car Show and Blood Drive<br />\n<br />\n10:00a.m-4:00pm<br />\nat Veterans Memorial Park.<br />\n<br />\nSponsored by Tooele Elks Lodge.</span>
LOCATION:
UID:e.125.5042
SEQUENCE:3
DTSTAMP:20260420T125857Z
URL:https://members.tooelechamber.com/events/details/veterans-appreciations-day-07-27-2013-5042
END:VEVENT

END:VCALENDAR
