BEGIN:VCALENDAR
VERSION:2.0
PRODID:-//ChamberMaster//Event Calendar 2.0//EN
METHOD:PUBLISH
X-PUBLISHED-TTL:P3D
REFRESH-INTERVAL:P3D
CALSCALE:GREGORIAN
BEGIN:VEVENT
DTSTART:20121112T180000Z
DTEND:20121112T190000Z
X-MICROSOFT-CDO-ALLDAYEVENT:FALSE
SUMMARY:Veterans Day Ceremony
DESCRIPTION:VETERANS DAY CEREMONY\n\n	Monday\, November 12\, 2012\n\n	Dow James Building\n\n	438 West 400 North\n\n	Breakfast 9:30am   10:45am\n\n	(FREE TO ALL VETERANS\, FAMILY & FRIENDS)\n\n	11am\n\n	Guest Speaker - Principal Kendall Topham\n\n	\n\n	Click here to edit...
X-ALT-DESC;FMTTYPE=text/html:<div style="color: gray">\n	<span style="font-size: 12px"><span style="font-size: 16px"><u><strong><span style="color: #76923c"><span style="font-family: bookman old style\,serif">VETERANS DAY CEREMONY</span></span></strong></u></span><br />\n	<strong><span style="color: #76923c"><span style="font-family: bookman old style\,serif">Monday\, November 12\, 2012</span></span></strong><br />\n	<strong><span style="color: #76923c"><span style="font-family: bookman old style\,serif">Dow James Building</span></span></strong><br />\n	<strong><span style="color: #76923c"><span style="font-family: bookman old style\,serif">438 West 400 North</span></span></strong><br />\n	<strong><span style="color: #76923c"><span style="font-family: bookman old style\,serif">Breakfast 9:30am &ndash\; 10:45am</span></span></strong><br />\n	<strong><span style="color: #76923c"><span style="font-family: bookman old style\,serif">(FREE TO ALL VETERANS\, FAMILY &amp\; FRIENDS)</span></span></strong><br />\n	<strong><span style="color: #76923c"><span style="font-family: bookman old style\,serif">11am</span></span></strong><br />\n	<strong><span style="color: #76923c"><span style="font-family: bookman old style\,serif">Guest Speaker - Principal Kendall Topham</span></span></strong><br />\n	<br />\n	Click here to edit...</span></div>\n
LOCATION:
UID:e.125.4945
SEQUENCE:3
DTSTAMP:20260421T032056Z
URL:https://members.tooelechamber.com/events/details/veterans-day-ceremony-11-12-2012-4945
END:VEVENT

END:VCALENDAR
