BEGIN:VCALENDAR
VERSION:2.0
PRODID:-//ChamberMaster//Event Calendar 2.0//EN
METHOD:PUBLISH
X-PUBLISHED-TTL:P3D
REFRESH-INTERVAL:P3D
CALSCALE:GREGORIAN
BEGIN:VEVENT
DTSTART;VALUE=DATE:20131118
DTEND;VALUE=DATE:20131120
TRANSP:TRANSPARENT
X-MICROSOFT-CDO-ALLDAYEVENT:TRUE
SUMMARY:Water Shut Off
DESCRIPTION:Delinquent Accts will be shut off.
X-ALT-DESC;FMTTYPE=text/html:Delinquent Accts will be shut off.\n
LOCATION:
UID:e.125.5695
SEQUENCE:3
DTSTAMP:20260420T055440Z
URL:https://members.tooelechamber.com/events/details/water-shut-off-11-18-2013-5695
END:VEVENT

END:VCALENDAR
