BEGIN:VCALENDAR
VERSION:2.0
PRODID:-//ChamberMaster//Event Calendar 2.0//EN
METHOD:PUBLISH
X-PUBLISHED-TTL:P3D
REFRESH-INTERVAL:P3D
CALSCALE:GREGORIAN
BEGIN:VEVENT
DTSTART;VALUE=DATE:20090926
DTEND;VALUE=DATE:20090927
TRANSP:TRANSPARENT
X-MICROSOFT-CDO-ALLDAYEVENT:TRUE
SUMMARY:Wendover Airshow
DESCRIPTION:Wendover Airshow tickets are on sale in the Human Resource Office of the County Building 47 South Main Tooele \nfor the Air Show going on this Saturday\, September 26th \n9:00 am - 5:00 pm. \nQuestions please call Tita Adams at 843-3157. \n\nPRE-SALE :     Adults (16+) - $8.00 \n                          Youth (9-15) - $3.00 \n                   Under 9 - FREE \n\n  AT GATE:        Adults (16+) -$10.00 \n                           Youth (9-15) - $5.00 \n                    Under 9 - FREE \n\nPLEASE BRING EXACT CHANGE OR WRITE A CHECK TO : Historic Wendover Airport
X-ALT-DESC;FMTTYPE=text/html:<p style="text-align: center"><span style="font-size: medium">Wendover Airshow tickets are on sale in the Human Resource Office of the County Building 47 South Main Tooele <br /><font face="sans-serif">for the Air Show going on this Saturday\, September 26th&nbsp\;</font></span><span style="font-size: medium"><font face="sans-serif"><br />9:00 am - 5:00 pm. </font><br /><font face="sans-serif">Questions please call Tita Adams at 843-3157. </font><br /><br /><font face="sans-serif" color="#400080"><b>PRE-SALE :&nbsp\;&nbsp\;&nbsp\;&nbsp\;&nbsp\;Adults (16+) - $8.00</b></font> <br /><font face="sans-serif" color="#400080"><b>&nbsp\; &nbsp\; &nbsp\; &nbsp\; &nbsp\; &nbsp\; &nbsp\; &nbsp\; &nbsp\; &nbsp\; &nbsp\; &nbsp\; &nbsp\; Youth (9-15) - $3.00</b></font>&nbsp\;<br /><font face="sans-serif" color="#400080"><b>&nbsp\;&nbsp\;&nbsp\;&nbsp\;&nbsp\;&nbsp\;&nbsp\;&nbsp\;&nbsp\;&nbsp\;&nbsp\;&nbsp\;&nbsp\;&nbsp\;&nbsp\;&nbsp\;&nbsp\;&nbsp\;&nbsp\;Under 9 - FREE</b></font> <br /><br /><font face="sans-serif" color="#400080"><b>&nbsp\; AT GATE:&nbsp\;&nbsp\;&nbsp\;&nbsp\;&nbsp\;&nbsp\;&nbsp\;&nbsp\;Adults (16+) -$10.00</b></font> <br /><font face="sans-serif" color="#400080"><b>&nbsp\; &nbsp\; &nbsp\; &nbsp\; &nbsp\; &nbsp\; &nbsp\; &nbsp\; &nbsp\; &nbsp\; &nbsp\; &nbsp\; &nbsp\; &nbsp\;Youth (9-15) - $5.00</b></font>&nbsp\;<br /><font face="sans-serif" color="#400080"><b>&nbsp\;&nbsp\;&nbsp\;&nbsp\;&nbsp\;&nbsp\;&nbsp\;&nbsp\;&nbsp\;&nbsp\;&nbsp\;&nbsp\;&nbsp\;&nbsp\;&nbsp\;&nbsp\;&nbsp\;&nbsp\;&nbsp\;&nbsp\;Under 9 - FREE</b></font> <br /><br /><font face="sans-serif"><b>PLEASE BRING EXACT CHANGE OR WRITE A CHECK TO : Historic Wendover Airport</b></font> <br /></span><br />&nbsp\;</p>
LOCATION:
UID:e.125.2578
SEQUENCE:3
DTSTAMP:20260423T164231Z
URL:https://members.tooelechamber.com/events/details/wendover-airshow-09-26-2009-2578
END:VEVENT

END:VCALENDAR
