BEGIN:VCALENDAR
VERSION:2.0
PRODID:-//ChamberMaster//Event Calendar 2.0//EN
METHOD:PUBLISH
X-PUBLISHED-TTL:P3D
REFRESH-INTERVAL:P3D
CALSCALE:GREGORIAN
BEGIN:VEVENT
DTSTART:20120119T013000Z
DTEND:20120119T023000Z
X-MICROSOFT-CDO-ALLDAYEVENT:FALSE
SUMMARY:Wendover City Council Meetings
DESCRIPTION:Wendover City Council Meetings\n\n6:30- 7:30 p.m.\n\n920 Wendover Blvd
X-ALT-DESC;FMTTYPE=text/html:<strong><span style="font-size: 20px">Wendover City Council Meetings<br />\n6:30- 7:30 p.m.<br />\n920 Wendover Blvd</span></strong>
LOCATION:
UID:e.125.4772
SEQUENCE:3
DTSTAMP:20260421T203716Z
URL:https://members.tooelechamber.com/events/details/wendover-city-council-meetings-01-18-2012-4772
END:VEVENT

END:VCALENDAR
