BEGIN:VCALENDAR
VERSION:2.0
PRODID:-//ChamberMaster//Event Calendar 2.0//EN
METHOD:PUBLISH
X-PUBLISHED-TTL:P3D
REFRESH-INTERVAL:P3D
CALSCALE:GREGORIAN
BEGIN:VEVENT
DTSTART;VALUE=DATE:20100925
DTEND;VALUE=DATE:20100926
TRANSP:TRANSPARENT
X-MICROSOFT-CDO-ALLDAYEVENT:TRUE
SUMMARY:Wendover Wings & Wheels Air Show 2010
DESCRIPTION:Two F4U Corsairs\, a P-51 Mustang\, and other warbirds will make their appearance at this year's air show on Saturday September 25th.  We may also see a giant C-17 cargo plane on the ramp\, along with other modern and vintage military aircraft.   There will be six aerobatic demonstrations at the show.  The Viper West F-16 team from hill Air Force Base will be performing at this year's air show.  Also performing will be the Navy's F-18 demo from the VFA-125 squadron.   This will be an incredible not-to miss performance.   Again this year\, a car show will be combined with the air show\, and better than ever.  Visitors will be treated to everything from military vehicles to hot rods\, classics and modern automobiles\, displayed on the aircraft ramp.
X-ALT-DESC;FMTTYPE=text/html:<div><span style="font-size: medium"><p class="MsoNormal" style="margin: 0in 0in 10pt"><span style="font-size: large"><span style="line-height: 115%"><font face="Calibri">Two F4U Corsairs\, a P-51 Mustang\, and other warbirds will make their appearance at this year&rsquo\;s air show on Saturday September 25<sup>th</sup>.<span style="mso-spacerun: yes">&nbsp\; </span>We may also see a giant C-17 cargo plane on the ramp\, along with other modern and vintage military aircraft.<span style="mso-spacerun: yes">&nbsp\;&nbsp\; </span>There will be six aerobatic demonstrations at the show.<span style="mso-spacerun: yes">&nbsp\; </span>The Viper West F-16 team from hill Air Force Base will be performing at this year&rsquo\;s air show.<span style="mso-spacerun: yes">&nbsp\; </span>Also performing will be the Navy&rsquo\;s F-18 demo from the VFA-125 squadron.<span style="mso-spacerun: yes">&nbsp\;&nbsp\; </span>This will be an incredible not-to miss performance.<span style="mso-spacerun: yes">&nbsp\;&nbsp\; </span>Again this year\, a car show will be combined with the air show\, and better than ever.<span style="mso-spacerun: yes">&nbsp\; </span>Visitors will be treated to everything from military vehicles to hot rods\, classics and modern automobiles\, displayed on the aircraft ramp.</font></span></span><span style="line-height: 115%\; font-size: 24pt"><font face="Calibri"><o:p></o:p></font></span></p></span></div><div><span style="font-size: large">&nbsp\;</span></div>
LOCATION:Historic Wendover Air Field
UID:e.125.3204
SEQUENCE:3
DTSTAMP:20260422T220234Z
URL:https://members.tooelechamber.com/events/details/wendover-wings-wheels-air-show-2010-09-25-2010-3204
END:VEVENT

END:VCALENDAR
