BEGIN:VCALENDAR
VERSION:2.0
PRODID:-//ChamberMaster//Event Calendar 2.0//EN
METHOD:PUBLISH
X-PUBLISHED-TTL:P3D
REFRESH-INTERVAL:P3D
CALSCALE:GREGORIAN
BEGIN:VEVENT
DTSTART:20100417T010000Z
DTEND:20100417T020000Z
X-MICROSOFT-CDO-ALLDAYEVENT:FALSE
SUMMARY:What The Emperor Doesn't Know...
DESCRIPTION:Come Together for Campus Conversations at USU Regional Campus What the Emperor Doesn't Know...Merchants\, Fraud\, and Deception under the french Napoleonic Empire Friday\, April 16th @ 7:00pm Presented by\; Professor Bruce Nye Utah State Tooele Regional Campus 1021 West Vine Street\, Tooele Any questions call: (435)882-6611Aggie ice cream for all those attending ~ No small children please
X-ALT-DESC;FMTTYPE=text/html:<div style="text-align: center"><span style="font-size: medium">Come Together for Campus Conversations at </span></div><div style="text-align: center"><span style="font-size: medium">USU Regional Campus </span></div><div style="text-align: center"><span style="font-size: medium">What the Emperor Doesn't Know...</span></div><div style="text-align: center"><span style="font-size: medium">Merchants\, Fraud\, and Deception under </span></div><div style="text-align: center"><span style="font-size: medium">the french Napoleonic Empire </span></div><div style="text-align: center"><span style="font-size: medium">Friday\, April 16th @ 7:00pm </span></div><div style="text-align: center"><span style="font-size: medium">Presented by\; Professor Bruce Nye </span></div><div style="text-align: center"><span style="font-size: medium">Utah State Tooele Regional Campus </span></div><div style="text-align: center"><span style="font-size: medium">1021 West Vine Street\, Tooele </span></div><div style="text-align: center"><span style="font-size: medium">Any questions call: (435)882-6611</span></div><div style="text-align: center"><span style="font-size: medium">Aggie ice cream for all those attending ~ No small children please</span></div>
LOCATION:
UID:e.125.3132
SEQUENCE:3
DTSTAMP:20260423T075038Z
URL:https://members.tooelechamber.com/events/details/what-the-emperor-doesn-t-know-04-16-2010-3132
END:VEVENT

END:VCALENDAR
