BEGIN:VCALENDAR
VERSION:2.0
PRODID:-//ChamberMaster//Event Calendar 2.0//EN
METHOD:PUBLISH
X-PUBLISHED-TTL:P3D
REFRESH-INTERVAL:P3D
CALSCALE:GREGORIAN
BEGIN:VEVENT
DTSTART:20140811T210000Z
DTEND:20140811T220000Z
X-MICROSOFT-CDO-ALLDAYEVENT:FALSE
SUMMARY:Workforce Wellness Clinic
DESCRIPTION:Learn about workforce wellness\n	Meet with health insurance companies\n	Gain tools for obtaining funds for wellness programs\n	Recruitment and retention benefits\n	marketing opportunities\n	Refreshments\n	Money and prizes\n	Better health\, a happier workforce\, and a healthier you!\n	Bring your insurance broker!
X-ALT-DESC;FMTTYPE=text/html:<ul>\n	<li>Learn about workforce wellness</li>\n	<li>Meet with health insurance companies</li>\n	<li>Gain tools for obtaining funds for wellness programs</li>\n	<li>Recruitment and retention benefits</li>\n	<li>marketing opportunities</li>\n	<li>Refreshments</li>\n	<li>Money and prizes</li>\n	<li>Better health\, a happier workforce\, and a healthier you!</li>\n	<li><span style="font-family:times new roman\,serif\;"><span style="font-size:12.0pt\;">Bring your insurance broker!</span></span></li>\n</ul>\n
LOCATION:Tooele County Heath Department Auditorium 151 N Main St Tooele\, UT
UID:e.125.5372
SEQUENCE:3
DTSTAMP:20260419T122827Z
URL:https://members.tooelechamber.com/events/details/workforce-wellness-clinic-08-11-2014-5372
END:VEVENT

END:VCALENDAR
