BEGIN:VCALENDAR
VERSION:2.0
PRODID:-//ChamberMaster//Event Calendar 2.0//EN
METHOD:PUBLISH
X-PUBLISHED-TTL:P3D
REFRESH-INTERVAL:P3D
CALSCALE:GREGORIAN
BEGIN:VEVENT
DTSTART;VALUE=DATE:20090916
DTEND;VALUE=DATE:20090920
TRANSP:TRANSPARENT
X-MICROSOFT-CDO-ALLDAYEVENT:TRUE
SUMMARY:World of Speed. Utah Salt Flats Racing
DESCRIPTION:World of Speed. Utah Salt Flats RacingAssn. www.saltflats.com801-485-2662
X-ALT-DESC;FMTTYPE=text/html:<div><font face="Frutiger-LightCn" size="1"><font face="Frutiger-LightCn" size="1"><p align="center"><font size="4">World of Speed. Utah Salt Flats Racing</font></p><p align="center"><font size="4">Assn. www.saltflats.com</font></p><p align="center"><font size="4">801-485-2662</font></p></font></font></div>
LOCATION:
UID:e.125.1226
SEQUENCE:3
DTSTAMP:20260423T182143Z
URL:https://members.tooelechamber.com/events/details/world-of-speed-utah-salt-flats-racing-09-16-2009-1226
END:VEVENT

END:VCALENDAR
