BEGIN:VCALENDAR
VERSION:2.0
PRODID:-//ChamberMaster//Event Calendar 2.0//EN
METHOD:PUBLISH
X-PUBLISHED-TTL:P3D
REFRESH-INTERVAL:P3D
CALSCALE:GREGORIAN
BEGIN:VEVENT
DTSTART:20101212T170000Z
DTEND:20101212T183000Z
X-MICROSOFT-CDO-ALLDAYEVENT:FALSE
SUMMARY:Worship at Waters Edge
DESCRIPTION:All are welcome to worship at Waters Edge. Our goal is to help each other personally discover\, engage\, and reveal Jesus. The morning includes socializing\, singing\, teaching from the Bible\, and classes for kids. Dress is casual.
X-ALT-DESC;FMTTYPE=text/html:All are welcome to worship at Waters Edge. Our goal is to help each other personally discover\, engage\, and reveal Jesus. The morning includes socializing\, singing\, teaching from the Bible\, and classes for kids. Dress is casual.<span _fck_bookmark="1" style="display: none">&nbsp\;</span>
LOCATION:Stansbury High School (5300 Aberdeen)
UID:e.125.3305
SEQUENCE:3
DTSTAMP:20260422T171912Z
URL:https://members.tooelechamber.com/events/details/worship-at-waters-edge-12-12-2010-3305
END:VEVENT

END:VCALENDAR
