BEGIN:VCALENDAR
VERSION:2.0
PRODID:-//ChamberMaster//Event Calendar 2.0//EN
METHOD:PUBLISH
X-PUBLISHED-TTL:P3D
REFRESH-INTERVAL:P3D
CALSCALE:GREGORIAN
BEGIN:VEVENT
DTSTART:20110428T000000Z
DTEND:20110428T024000Z
X-MICROSOFT-CDO-ALLDAYEVENT:FALSE
SUMMARY:Youth Summit
DESCRIPTION:Youth Summit\n\n	For: High School Students and Parents\n\n	When: Wednesday\, April 27\, 2011\n\n	Time: 6-8:40pm\n\n	Place: Tooele High School - 301 West Vine Street\, Tooele\n\n	Over 20 GREAT breakout sessions to choose from!!!\n\n	Earn credit or win prizes for attending!! !\n\n	Grand Prize: iPad\n\n	Other great prizes will include a variety of gift certificates for local activities!
X-ALT-DESC;FMTTYPE=text/html:<p style="text-align: center">\n	<span style="font-size: 20px">Youth Summit<br />\n	For: High School Students and Parents<br />\n	When: Wednesday\, April 27\, 2011<br />\n	Time: 6-8:40pm<br />\n	Place: Tooele High School - 301 West Vine Street\, Tooele<br />\n	Over 20 GREAT breakout sessions to choose from!!!<br />\n	Earn credit or win prizes for attending!! !<br />\n	Grand Prize: iPad<br />\n	Other great prizes will include a variety of gift certificates for local activities!</span></p>\n
LOCATION:
UID:e.125.3659
SEQUENCE:3
DTSTAMP:20260422T104208Z
URL:https://members.tooelechamber.com/events/details/youth-summit-04-27-2011-3659
END:VEVENT

END:VCALENDAR
