BEGIN:VCALENDAR
VERSION:2.0
PRODID:-//ChamberMaster//Event Calendar 2.0//EN
METHOD:PUBLISH
X-PUBLISHED-TTL:P3D
REFRESH-INTERVAL:P3D
CALSCALE:GREGORIAN
BEGIN:VEVENT
DTSTART;VALUE=DATE:20100712
DTEND;VALUE=DATE:20100717
TRANSP:TRANSPARENT
X-MICROSOFT-CDO-ALLDAYEVENT:TRUE
SUMMARY:Zions Bank 1st Year Celebration
DESCRIPTION:The Tooele Office of Zions Bank invites you to join them for their 1st Year Celebration Monday - Friday\, July 12th-16th We will have Manager's specials each day!Enter to win our grand prize drawing for a BBQ Come in on Thursday and Friday to spin the wheel for your special prize Join us for a "down-home" BBQ on July 16th 11am-3pm The drawing for the GRAND PRIZE is at 3:30pm!!Location: 988 North Main Street\, Tooele
X-ALT-DESC;FMTTYPE=text/html:<div style="text-align: center"><span style="font-size: medium">The Tooele Office of Zions Bank invites you to join them for their </span></div><div style="text-align: center"><span style="font-size: medium">1st Year Celebration </span></div><div style="text-align: center"><span style="font-size: medium">Monday - Friday\, July 12th-16th </span></div><div style="text-align: center"><span style="font-size: medium">We will have Manager's specials each day!</span></div><div style="text-align: center"><span style="font-size: medium">Enter to win our grand prize drawing for a BBQ </span></div><div style="text-align: center"><span style="font-size: medium">Come in on Thursday and Friday to spin the </span></div><div style="text-align: center"><span style="font-size: medium">wheel for your special prize </span></div><div style="text-align: center"><span style="font-size: medium">Join us for a &quot\;down-home&quot\; BBQ on July 16th 11am-3pm </span></div><div style="text-align: center"><span style="font-size: medium">The drawing for the GRAND PRIZE is at 3:30pm!!</span></div><div style="text-align: center"><span style="font-size: medium">Location: 988 North Main Street\, Tooele </span></div>
LOCATION:
UID:e.125.3212
SEQUENCE:3
DTSTAMP:20260423T013850Z
URL:https://members.tooelechamber.com/events/details/zions-bank-1st-year-celebration-07-12-2010-3212
END:VEVENT

END:VCALENDAR
